BEGIN:VCALENDAR
VERSION:2.0
PRODID:-//AEMAC - ECPv6.15.20//NONSGML v1.0//EN
CALSCALE:GREGORIAN
METHOD:PUBLISH
X-WR-CALNAME:AEMAC
X-ORIGINAL-URL:https://www.aemac.org
X-WR-CALDESC:Eventos para AEMAC
REFRESH-INTERVAL;VALUE=DURATION:PT1H
X-Robots-Tag:noindex
X-PUBLISHED-TTL:PT1H
BEGIN:VTIMEZONE
TZID:Europe/Berlin
BEGIN:DAYLIGHT
TZOFFSETFROM:+0100
TZOFFSETTO:+0200
TZNAME:CEST
DTSTART:20250330T010000
END:DAYLIGHT
BEGIN:STANDARD
TZOFFSETFROM:+0200
TZOFFSETTO:+0100
TZNAME:CET
DTSTART:20251026T010000
END:STANDARD
BEGIN:DAYLIGHT
TZOFFSETFROM:+0100
TZOFFSETTO:+0200
TZNAME:CEST
DTSTART:20260329T010000
END:DAYLIGHT
BEGIN:STANDARD
TZOFFSETFROM:+0200
TZOFFSETTO:+0100
TZNAME:CET
DTSTART:20261025T010000
END:STANDARD
BEGIN:DAYLIGHT
TZOFFSETFROM:+0100
TZOFFSETTO:+0200
TZNAME:CEST
DTSTART:20270328T010000
END:DAYLIGHT
BEGIN:STANDARD
TZOFFSETFROM:+0200
TZOFFSETTO:+0100
TZNAME:CET
DTSTART:20271031T010000
END:STANDARD
END:VTIMEZONE
BEGIN:VEVENT
DTSTART;TZID=Europe/Berlin:20260421T090000
DTEND;TZID=Europe/Berlin:20260423T180000
DTSTAMP:20260421T021321
CREATED:20260112T174453Z
LAST-MODIFIED:20260407T150231Z
UID:10461-1776762000-1776967200@www.aemac.org
SUMMARY:Wind Europe Annual Event - Madrid
DESCRIPTION:
URL:https://www.aemac.org/calendario/wind-europe-annual-event-madrid/
LOCATION:IFEMA\, Av. del Partenón\, 5\, Madrid\, Madrid\, 28042
CATEGORIES:Congreso,Presencial
ATTACH;FMTTYPE=image/png:https://www.aemac.org/wp/wp-content/uploads/2026/01/Wind-Europe-Annual-Event.png
END:VEVENT
END:VCALENDAR